BEGIN:VCALENDAR
VERSION:2.0
PRODID:-//BenefitShow.net - ECPv6.15.12.2//NONSGML v1.0//EN
CALSCALE:GREGORIAN
METHOD:PUBLISH
X-WR-CALNAME:BenefitShow.net
X-ORIGINAL-URL:https://benefitshow.net
X-WR-CALDESC:Events for BenefitShow.net
REFRESH-INTERVAL;VALUE=DURATION:PT1H
X-Robots-Tag:noindex
X-PUBLISHED-TTL:PT1H
BEGIN:VTIMEZONE
TZID:America/Toronto
BEGIN:DAYLIGHT
TZOFFSETFROM:-0500
TZOFFSETTO:-0400
TZNAME:EDT
DTSTART:20250309T070000
END:DAYLIGHT
BEGIN:STANDARD
TZOFFSETFROM:-0400
TZOFFSETTO:-0500
TZNAME:EST
DTSTART:20251102T060000
END:STANDARD
BEGIN:DAYLIGHT
TZOFFSETFROM:-0500
TZOFFSETTO:-0400
TZNAME:EDT
DTSTART:20260308T070000
END:DAYLIGHT
BEGIN:STANDARD
TZOFFSETFROM:-0400
TZOFFSETTO:-0500
TZNAME:EST
DTSTART:20261101T060000
END:STANDARD
BEGIN:DAYLIGHT
TZOFFSETFROM:-0500
TZOFFSETTO:-0400
TZNAME:EDT
DTSTART:20270314T070000
END:DAYLIGHT
BEGIN:STANDARD
TZOFFSETFROM:-0400
TZOFFSETTO:-0500
TZNAME:EST
DTSTART:20271107T060000
END:STANDARD
END:VTIMEZONE
BEGIN:VEVENT
DTSTART;TZID=America/Toronto:20260218T193000
DTEND;TZID=America/Toronto:20260218T193000
DTSTAMP:20260420T233613
CREATED:20250916T200157Z
LAST-MODIFIED:20260210T211042Z
UID:31122-1771443000-1771443000@benefitshow.net
SUMMARY:SOLD OUT - Night Fever & Forever Young in Georgetown
DESCRIPTION:Foreign Journey – The Best of Foreigner & Journey in Chatham | Supporting Chatham-Kent Crime Stoppers Prepare to be transported back to the golden age of arena rock with Foreign Journey\, a phenomenal group of five world-class musicians. United by their deep admiration for the iconic sounds of two of the biggest names in commercial rock—FOREIGNER and JOURNEY—this high-energy tribute act promises an unforgettable experience. Friday\, September 18\, 2026\, at 8:00 PMCapitol Theatre283 King St W\, Chatham 						\n				\n				\n				\n					\n			\n		\n				\n				\n				\n				\n			Buy Tickets		\n				\n				\n				\n			Buy Tickets		\n				\n				\n				\n					\n			\n		\n				\n				\n					\n		\n					\n		\n				\n						\n					\n			\n						\n				\n							In support of 						\n				\n				\n				\n																										\n				\n				\n				\n					\n			\n		\n				\n				\n				\n				\n							Chatham-Kent Crime Stoppers’ mandate is to assist the Police in solving crimes\, thereby making communities and schools safer. The program encourages members of the community to call anonymously with information that assists in solving or preventing crimes. Cash rewards are offered to anonymous callers when their information assists the police in recovering stolen property\, seizing illegal drugs or when an arrest is made.  Crime Stoppers originated in 1976. The Chatham-Kent Program started in 1987 and is recognized as one of the most successful in Canada. 						\n				\n				\n				\n					\n			\n		\n				\n				\n					\n		\n					\n		\n				\n						\n					\n			\n						\n				\n					\n					\n				\n				\n					\n		\n					\n		\n				\n						\n					\n			\n							\n		\n				\n			\n						\n				\n					\n					\n				\n				\n					\n		\n				\n			\n							\n		\n					\n		\n				\n						\n					\n			\n						\n				\n					\n			\n		\n				\n				\n				\n				\n							Reviews						\n				\n				\n				\n					\n			\n				\n											\n									\n							\n					\n						Have seen them twice great show\n					\n									\n						\n									\n						\n											\n								Brenda M.Port Dover\, Ontario			\n		\n								\n											\n									\n							\n					\n						Great show!					\n									\n						\n									\n						\n											\n								Clint H.Owen Sound\, Ontario			\n		\n								\n											\n									\n							\n					\n						Go and see them if you get a chance. I seen them in Owosso. They did not disappoint.					\n									\n						\n									\n						\n											\n								Randy J.Owosso\, Michigan			\n		\n								\n									\n															\n																\n														Previous\n						\n						\n														Next\n						\n												\n		\n				\n				\n				\n				\n			Buy Tickets		\n				\n				\n				\n					\n			\n		\n				\n				\n				\n				\n							Invite your friends!
URL:https://benefitshow.net/event/bee-gees-rod-stewart-tribute-georgetown/
LOCATION:John Elliott Theatre\, 9 Church St\, Georgetown\, Ontario\, L7G 2A3\, Canada
ATTACH;FMTTYPE=image/png:https://benefitshow.net/wp-content/uploads/2025/09/NIGHT-FEVER-FOREVER-YOUNG-GEORGETOWN-WEBSITE-GRAPHIC-CCS.png
ORGANIZER;CN="BenefitShow.net":MAILTO:community@benefitshow.net
END:VEVENT
BEGIN:VEVENT
DTSTART;TZID=America/Toronto:20260220T200000
DTEND;TZID=America/Toronto:20260220T200000
DTSTAMP:20260420T233613
CREATED:20250829T180537Z
LAST-MODIFIED:20260210T082034Z
UID:30917-1771617600-1771617600@benefitshow.net
SUMMARY:Night Fever & Forever Young in Peterborough
DESCRIPTION:Foreign Journey – The Best of Foreigner & Journey in Chatham | Supporting Chatham-Kent Crime Stoppers Prepare to be transported back to the golden age of arena rock with Foreign Journey\, a phenomenal group of five world-class musicians. United by their deep admiration for the iconic sounds of two of the biggest names in commercial rock—FOREIGNER and JOURNEY—this high-energy tribute act promises an unforgettable experience. Friday\, September 18\, 2026\, at 8:00 PMCapitol Theatre283 King St W\, Chatham 						\n				\n				\n				\n					\n			\n		\n				\n				\n				\n				\n			Buy Tickets		\n				\n				\n				\n			Buy Tickets		\n				\n				\n				\n					\n			\n		\n				\n				\n					\n		\n					\n		\n				\n						\n					\n			\n						\n				\n							In support of 						\n				\n				\n				\n																										\n				\n				\n				\n					\n			\n		\n				\n				\n				\n				\n							Chatham-Kent Crime Stoppers’ mandate is to assist the Police in solving crimes\, thereby making communities and schools safer. The program encourages members of the community to call anonymously with information that assists in solving or preventing crimes. Cash rewards are offered to anonymous callers when their information assists the police in recovering stolen property\, seizing illegal drugs or when an arrest is made.  Crime Stoppers originated in 1976. The Chatham-Kent Program started in 1987 and is recognized as one of the most successful in Canada. 						\n				\n				\n				\n					\n			\n		\n				\n				\n					\n		\n					\n		\n				\n						\n					\n			\n						\n				\n					\n					\n				\n				\n					\n		\n					\n		\n				\n						\n					\n			\n							\n		\n				\n			\n						\n				\n					\n					\n				\n				\n					\n		\n				\n			\n							\n		\n					\n		\n				\n						\n					\n			\n						\n				\n					\n			\n		\n				\n				\n				\n				\n							Reviews						\n				\n				\n				\n					\n			\n				\n											\n									\n							\n					\n						Have seen them twice great show\n					\n									\n						\n									\n						\n											\n								Brenda M.Port Dover\, Ontario			\n		\n								\n											\n									\n							\n					\n						Great show!					\n									\n						\n									\n						\n											\n								Clint H.Owen Sound\, Ontario			\n		\n								\n											\n									\n							\n					\n						Go and see them if you get a chance. I seen them in Owosso. They did not disappoint.					\n									\n						\n									\n						\n											\n								Randy J.Owosso\, Michigan			\n		\n								\n									\n															\n																\n														Previous\n						\n						\n														Next\n						\n												\n		\n				\n				\n				\n				\n			Buy Tickets		\n				\n				\n				\n					\n			\n		\n				\n				\n				\n				\n							Invite your friends!
URL:https://benefitshow.net/event/bee-gees-rod-stewart-tribute-peterborough/
LOCATION:Showplace Performance Centre\, 290 George St N\, Peterborough\, Ontario\, K9J 3H2\, Canada
ATTACH;FMTTYPE=image/png:https://benefitshow.net/wp-content/uploads/2025/08/NIGHT-FEVER-FOREVER-YOUNG-PETERBOROUGH-WEBSITE-GRAPHIC.png
ORGANIZER;CN="BenefitShow.net":MAILTO:community@benefitshow.net
END:VEVENT
END:VCALENDAR