BEGIN:VCALENDAR
VERSION:2.0
PRODID:-//BenefitShow.net - ECPv6.15.12.2//NONSGML v1.0//EN
CALSCALE:GREGORIAN
METHOD:PUBLISH
X-WR-CALNAME:BenefitShow.net
X-ORIGINAL-URL:https://benefitshow.net
X-WR-CALDESC:Events for BenefitShow.net
REFRESH-INTERVAL;VALUE=DURATION:PT1H
X-Robots-Tag:noindex
X-PUBLISHED-TTL:PT1H
BEGIN:VTIMEZONE
TZID:America/Toronto
BEGIN:DAYLIGHT
TZOFFSETFROM:-0500
TZOFFSETTO:-0400
TZNAME:EDT
DTSTART:20250309T070000
END:DAYLIGHT
BEGIN:STANDARD
TZOFFSETFROM:-0400
TZOFFSETTO:-0500
TZNAME:EST
DTSTART:20251102T060000
END:STANDARD
BEGIN:DAYLIGHT
TZOFFSETFROM:-0500
TZOFFSETTO:-0400
TZNAME:EDT
DTSTART:20260308T070000
END:DAYLIGHT
BEGIN:STANDARD
TZOFFSETFROM:-0400
TZOFFSETTO:-0500
TZNAME:EST
DTSTART:20261101T060000
END:STANDARD
BEGIN:DAYLIGHT
TZOFFSETFROM:-0500
TZOFFSETTO:-0400
TZNAME:EDT
DTSTART:20270314T070000
END:DAYLIGHT
BEGIN:STANDARD
TZOFFSETFROM:-0400
TZOFFSETTO:-0500
TZNAME:EST
DTSTART:20271107T060000
END:STANDARD
END:VTIMEZONE
BEGIN:VEVENT
DTSTART;TZID=America/Toronto:20260704T193000
DTEND;TZID=America/Toronto:20260704T193000
DTSTAMP:20260421T015132
CREATED:20260210T205204Z
LAST-MODIFIED:20260309T165134Z
UID:31594-1783193400-1783193400@benefitshow.net
SUMMARY:Night Fever & Forever Young in Windsor
DESCRIPTION:Foreign Journey – The Best of Foreigner & Journey in Chatham | Supporting Chatham-Kent Crime Stoppers Prepare to be transported back to the golden age of arena rock with Foreign Journey\, a phenomenal group of five world-class musicians. United by their deep admiration for the iconic sounds of two of the biggest names in commercial rock—FOREIGNER and JOURNEY—this high-energy tribute act promises an unforgettable experience. Friday\, September 18\, 2026\, at 8:00 PMCapitol Theatre283 King St W\, Chatham 						\n				\n				\n				\n					\n			\n		\n				\n				\n				\n				\n			Buy Tickets		\n				\n				\n				\n			Buy Tickets		\n				\n				\n				\n					\n			\n		\n				\n				\n					\n		\n					\n		\n				\n						\n					\n			\n						\n				\n							In support of 						\n				\n				\n				\n																										\n				\n				\n				\n					\n			\n		\n				\n				\n				\n				\n							Chatham-Kent Crime Stoppers’ mandate is to assist the Police in solving crimes\, thereby making communities and schools safer. The program encourages members of the community to call anonymously with information that assists in solving or preventing crimes. Cash rewards are offered to anonymous callers when their information assists the police in recovering stolen property\, seizing illegal drugs or when an arrest is made.  Crime Stoppers originated in 1976. The Chatham-Kent Program started in 1987 and is recognized as one of the most successful in Canada. 						\n				\n				\n				\n					\n			\n		\n				\n				\n					\n		\n					\n		\n				\n						\n					\n			\n						\n				\n					\n					\n				\n				\n					\n		\n					\n		\n				\n						\n					\n			\n							\n		\n				\n			\n						\n				\n					\n					\n				\n				\n					\n		\n				\n			\n							\n		\n					\n		\n				\n						\n					\n			\n						\n				\n					\n			\n		\n				\n				\n				\n				\n							Reviews						\n				\n				\n				\n					\n			\n				\n											\n									\n							\n					\n						Have seen them twice great show\n					\n									\n						\n									\n						\n											\n								Brenda M.Port Dover\, Ontario			\n		\n								\n											\n									\n							\n					\n						Great show!					\n									\n						\n									\n						\n											\n								Clint H.Owen Sound\, Ontario			\n		\n								\n											\n									\n							\n					\n						Go and see them if you get a chance. I seen them in Owosso. They did not disappoint.					\n									\n						\n									\n						\n											\n								Randy J.Owosso\, Michigan			\n		\n								\n									\n															\n																\n														Previous\n						\n						\n														Next\n						\n												\n		\n				\n				\n				\n				\n			Buy Tickets		\n				\n				\n				\n					\n			\n		\n				\n				\n				\n				\n							Invite your friends!
URL:https://benefitshow.net/event/night-fever-forever-young-in-windsor/
LOCATION:Capitol Theatre Windsor\, 121 University Ave W.\, Windsor\, Ontario\, N9A 5P4\, Canada
ATTACH;FMTTYPE=image/png:https://benefitshow.net/wp-content/uploads/2024/08/NIGHT-FEVER-FOREVER-YOUNG-WEBSITE-GRAPHIC.png
ORGANIZER;CN="BenefitShow.net":MAILTO:community@benefitshow.net
END:VEVENT
END:VCALENDAR